BEGIN:VCALENDAR
VERSION:2.0
PRODID:-//DAV Aischtal - ECPv6.15.17.1//NONSGML v1.0//EN
CALSCALE:GREGORIAN
METHOD:PUBLISH
X-ORIGINAL-URL:https://dav-aischtal.de
X-WR-CALDESC:Veranstaltungen für DAV Aischtal
REFRESH-INTERVAL;VALUE=DURATION:PT1H
X-Robots-Tag:noindex
X-PUBLISHED-TTL:PT1H
BEGIN:VTIMEZONE
TZID:Europe/Paris
BEGIN:DAYLIGHT
TZOFFSETFROM:+0100
TZOFFSETTO:+0200
TZNAME:CEST
DTSTART:20230326T010000
END:DAYLIGHT
BEGIN:STANDARD
TZOFFSETFROM:+0200
TZOFFSETTO:+0100
TZNAME:CET
DTSTART:20231029T010000
END:STANDARD
BEGIN:DAYLIGHT
TZOFFSETFROM:+0100
TZOFFSETTO:+0200
TZNAME:CEST
DTSTART:20240331T010000
END:DAYLIGHT
BEGIN:STANDARD
TZOFFSETFROM:+0200
TZOFFSETTO:+0100
TZNAME:CET
DTSTART:20241027T010000
END:STANDARD
BEGIN:DAYLIGHT
TZOFFSETFROM:+0100
TZOFFSETTO:+0200
TZNAME:CEST
DTSTART:20250330T010000
END:DAYLIGHT
BEGIN:STANDARD
TZOFFSETFROM:+0200
TZOFFSETTO:+0100
TZNAME:CET
DTSTART:20251026T010000
END:STANDARD
END:VTIMEZONE
BEGIN:VEVENT
DTSTART;TZID=Europe/Paris:20240126T190000
DTEND;TZID=Europe/Paris:20240126T203000
DTSTAMP:20260426T060553
CREATED:20231203T110957Z
LAST-MODIFIED:20231203T111532Z
UID:671-1706295600-1706301000@dav-aischtal.de
SUMMARY:Mitgliederversammlung
DESCRIPTION:Wir laden alle Mitglieder der Sektion Aischtal recht herzlich zu unserer Mitgliederversammlung 2024 in das Kletterzentrum Bad Windsheim ein. Beginn um 19 Uhr
URL:https://dav-aischtal.de/termin/mitgliederversammlung/
LOCATION:Kletterzentrum\, Sporthallenweg 12\, Bad Windsheim\, 91438\, Deutschland
ORGANIZER;CN="Peter H%C3%B6hn":MAILTO:peter.hoehn@dav-aischtal.de
END:VEVENT
END:VCALENDAR