BEGIN:VCALENDAR
VERSION:2.0
PRODID:-//DAV Aischtal - ECPv6.15.17.1//NONSGML v1.0//EN
CALSCALE:GREGORIAN
METHOD:PUBLISH
X-WR-CALNAME:DAV Aischtal
X-ORIGINAL-URL:https://dav-aischtal.de
X-WR-CALDESC:Veranstaltungen für DAV Aischtal
REFRESH-INTERVAL;VALUE=DURATION:PT1H
X-Robots-Tag:noindex
X-PUBLISHED-TTL:PT1H
BEGIN:VTIMEZONE
TZID:UTC
BEGIN:STANDARD
TZOFFSETFROM:+0000
TZOFFSETTO:+0000
TZNAME:UTC
DTSTART:20230101T000000
END:STANDARD
END:VTIMEZONE
BEGIN:VEVENT
DTSTART;VALUE=DATE:20240202
DTEND;VALUE=DATE:20240205
DTSTAMP:20260426T042722
CREATED:20231130T195249Z
LAST-MODIFIED:20240126T174224Z
UID:652-1706832000-1707091199@dav-aischtal.de
SUMMARY:Skitour Allgäuer Alpen\, Tannheimer Tal
DESCRIPTION:Skitouren Allgäuer Alpen\, Tannheimer Tal \nMögliche Tourenziele: Großer Ochsenkopf-Rangiswanger Horn\, Güntlespitze\, Geißhorn\, Ponten\, Wertacher Hörnle\, Grünten \nVoraussetzungen: Beherrschen des LVS\, Spitzkehre im Aufstieg\, kontrolliertes Abfahren und Schwingen im Tiefschnee \nKondition: Es ist eine gute Kondition erforderlich um an aneinander folgenden Tagen Aufstiege von drei bis vier Stunden und die Abfahrten mit Rucksack bewältigen zu können. \nKosten: Übernachtung mit Frühstuck ca. 100 € pro Person für zwei Nächte+ anteilige Fahrtkosten \nMeldeschluss: 30.12.2023 \nVorbesprechung: 26.01.2024\, 18:00 Uhr in der Kletterhalle
URL:https://dav-aischtal.de/termin/skitour-allgaeuer-alpen-tannheimer-tal/
LOCATION:Rettenberg Pension Jägerwinkl\, Kirchstraße 4\, Rettenberg\, 87549\, Deutschland
CATEGORIES:Skitour
ORGANIZER;CN="Andreas Buchner":MAILTO:andreas.buchner60@web.de
END:VEVENT
END:VCALENDAR