BEGIN:VCALENDAR
VERSION:2.0
PRODID:-//DAV Aischtal - ECPv6.15.17.1//NONSGML v1.0//EN
CALSCALE:GREGORIAN
METHOD:PUBLISH
X-WR-CALNAME:DAV Aischtal
X-ORIGINAL-URL:https://dav-aischtal.de
X-WR-CALDESC:Veranstaltungen für DAV Aischtal
REFRESH-INTERVAL;VALUE=DURATION:PT1H
X-Robots-Tag:noindex
X-PUBLISHED-TTL:PT1H
BEGIN:VTIMEZONE
TZID:Europe/Paris
BEGIN:DAYLIGHT
TZOFFSETFROM:+0100
TZOFFSETTO:+0200
TZNAME:CEST
DTSTART:20230326T010000
END:DAYLIGHT
BEGIN:STANDARD
TZOFFSETFROM:+0200
TZOFFSETTO:+0100
TZNAME:CET
DTSTART:20231029T010000
END:STANDARD
BEGIN:DAYLIGHT
TZOFFSETFROM:+0100
TZOFFSETTO:+0200
TZNAME:CEST
DTSTART:20240331T010000
END:DAYLIGHT
BEGIN:STANDARD
TZOFFSETFROM:+0200
TZOFFSETTO:+0100
TZNAME:CET
DTSTART:20241027T010000
END:STANDARD
BEGIN:DAYLIGHT
TZOFFSETFROM:+0100
TZOFFSETTO:+0200
TZNAME:CEST
DTSTART:20250330T010000
END:DAYLIGHT
BEGIN:STANDARD
TZOFFSETFROM:+0200
TZOFFSETTO:+0100
TZNAME:CET
DTSTART:20251026T010000
END:STANDARD
END:VTIMEZONE
BEGIN:VEVENT
DTSTART;TZID=Europe/Paris:20240206T190000
DTEND;TZID=Europe/Paris:20240206T210000
DTSTAMP:20260426T042612
CREATED:20231204T212100Z
LAST-MODIFIED:20240129T124103Z
UID:689-1707246000-1707253200@dav-aischtal.de
SUMMARY:Borneo - zwischen Urwald und Palmölplantagen
DESCRIPTION:Vortrag über die Reise nach Borneo von Peter Höhn
URL:https://dav-aischtal.de/termin/borneo-zwischen-urwald-und-palmoelplantagen/
LOCATION:Kletterzentrum\, Sporthallenweg 12\, Bad Windsheim\, 91438\, Deutschland
CATEGORIES:Vortrag
ATTACH;FMTTYPE=image/jpeg:https://dav-aischtal.de/wp-content/uploads/2023/12/borneo.jpg
ORGANIZER;CN="Peter H%C3%B6hn":MAILTO:peter.hoehn@dav-aischtal.de
END:VEVENT
END:VCALENDAR