BEGIN:VCALENDAR
VERSION:2.0
PRODID:-//DAV Aischtal - ECPv6.15.17.1//NONSGML v1.0//EN
CALSCALE:GREGORIAN
METHOD:PUBLISH
X-ORIGINAL-URL:https://dav-aischtal.de
X-WR-CALDESC:Veranstaltungen für DAV Aischtal
REFRESH-INTERVAL;VALUE=DURATION:PT1H
X-Robots-Tag:noindex
X-PUBLISHED-TTL:PT1H
BEGIN:VTIMEZONE
TZID:Europe/Paris
BEGIN:DAYLIGHT
TZOFFSETFROM:+0100
TZOFFSETTO:+0200
TZNAME:CEST
DTSTART:20230326T010000
END:DAYLIGHT
BEGIN:STANDARD
TZOFFSETFROM:+0200
TZOFFSETTO:+0100
TZNAME:CET
DTSTART:20231029T010000
END:STANDARD
BEGIN:DAYLIGHT
TZOFFSETFROM:+0100
TZOFFSETTO:+0200
TZNAME:CEST
DTSTART:20240331T010000
END:DAYLIGHT
BEGIN:STANDARD
TZOFFSETFROM:+0200
TZOFFSETTO:+0100
TZNAME:CET
DTSTART:20241027T010000
END:STANDARD
BEGIN:DAYLIGHT
TZOFFSETFROM:+0100
TZOFFSETTO:+0200
TZNAME:CEST
DTSTART:20250330T010000
END:DAYLIGHT
BEGIN:STANDARD
TZOFFSETFROM:+0200
TZOFFSETTO:+0100
TZNAME:CET
DTSTART:20251026T010000
END:STANDARD
END:VTIMEZONE
BEGIN:VEVENT
DTSTART;TZID=Europe/Paris:20240211T100000
DTEND;TZID=Europe/Paris:20240218T210000
DTSTAMP:20260426T060059
CREATED:20240111T171846Z
LAST-MODIFIED:20240208T170411Z
UID:1036-1707645600-1708290000@dav-aischtal.de
SUMMARY:Faschings-Bouldercup
DESCRIPTION:Die Faschings-Woche steht bald vor der Tür und deshalb möchten wir Euch alle herzlich einladen zu unserem „Faschings Boulder-Cup“ vom 11.-18.02.2024 für Groß und Klein im Kletter- und Boulderzentrum Bad Windsheim. Es erwarten euch 30 Routen\, die Ihr nach Lust und Laune mit der ganzen Familie klettern könnt. Zusätzlich haben wir für die Kinder einen separaten Bonusspielraum\, bei dem die Kinder 10 Faschingsspiele erwarten.Die Preise vom Boulder-Cup werden unter allen Teilnehmenden verlost. Die Preise von den Bonusspielen liegen für alle Kinder an der Kletterhallentheke bereit\, die es schaffen 5 Faschingsspiele zu lösen. \n  \nDauer:Sonntag bis Sonntag / 11.-18.02.2024 \nAlter:Bonusspiele & Kletterburg:Kinder ab 4 Jahren \nBoulder-Cup:Kinder ab 6 Jahren & Erwachsene \nPreise:Boulder-Cup / VerlosungBonusspiele / alle Kinder ab 5 gelösten Spielen(solange der Vorrat reicht) \nEintrittspreise:entsprechend der aktuellen Preistabelle \n 
URL:https://dav-aischtal.de/termin/faschings-bouldercup/
LOCATION:Kletterzentrum\, Sporthallenweg 12\, Bad Windsheim\, 91438\, Deutschland
CATEGORIES:Klettern
ATTACH;FMTTYPE=image/jpeg:https://dav-aischtal.de/wp-content/uploads/2024/01/Unbenannt.jpg
ORGANIZER;CN="DAV Sektion Aischtal":MAILTO:info@dav-aischtal.de
END:VEVENT
END:VCALENDAR