BEGIN:VCALENDAR
VERSION:2.0
PRODID:-//DAV Aischtal - ECPv6.15.17.1//NONSGML v1.0//EN
CALSCALE:GREGORIAN
METHOD:PUBLISH
X-WR-CALNAME:DAV Aischtal
X-ORIGINAL-URL:https://dav-aischtal.de
X-WR-CALDESC:Veranstaltungen für DAV Aischtal
REFRESH-INTERVAL;VALUE=DURATION:PT1H
X-Robots-Tag:noindex
X-PUBLISHED-TTL:PT1H
BEGIN:VTIMEZONE
TZID:Europe/Paris
BEGIN:DAYLIGHT
TZOFFSETFROM:+0100
TZOFFSETTO:+0200
TZNAME:CEST
DTSTART:20230326T010000
END:DAYLIGHT
BEGIN:STANDARD
TZOFFSETFROM:+0200
TZOFFSETTO:+0100
TZNAME:CET
DTSTART:20231029T010000
END:STANDARD
BEGIN:DAYLIGHT
TZOFFSETFROM:+0100
TZOFFSETTO:+0200
TZNAME:CEST
DTSTART:20240331T010000
END:DAYLIGHT
BEGIN:STANDARD
TZOFFSETFROM:+0200
TZOFFSETTO:+0100
TZNAME:CET
DTSTART:20241027T010000
END:STANDARD
BEGIN:DAYLIGHT
TZOFFSETFROM:+0100
TZOFFSETTO:+0200
TZNAME:CEST
DTSTART:20250330T010000
END:DAYLIGHT
BEGIN:STANDARD
TZOFFSETFROM:+0200
TZOFFSETTO:+0100
TZNAME:CET
DTSTART:20251026T010000
END:STANDARD
END:VTIMEZONE
BEGIN:VEVENT
DTSTART;TZID=Europe/Paris:20240321T080000
DTEND;TZID=Europe/Paris:20240324T170000
DTSTAMP:20260426T011537
CREATED:20240125T191026Z
LAST-MODIFIED:20240125T191033Z
UID:1089-1711008000-1711299600@dav-aischtal.de
SUMMARY:Skitour Schweinfurter Hütte
DESCRIPTION:Voraussetzungen: Beherrschen des LVS\, Spitzkehre im Aufstieg\, kontrolliertes Abfahren und Schwingen im Tiefschnee\nCharakter: Lange Skitour\, die eine gute Kondition erfordert.\nPreis für Sektionsmitglieder: 250€\nPreis für andere: 280€\n(inklusive 3 Übernachtungen mit HP\, Tourenführung)
URL:https://dav-aischtal.de/termin/skitour-schweinfurter-huette/
CATEGORIES:Skitour
ORGANIZER;CN="Ingo H%C3%B6hn":MAILTO:ingo.hoehn1998@gmail.com
END:VEVENT
BEGIN:VEVENT
DTSTART;TZID=Europe/Paris:20240323T100000
DTEND;TZID=Europe/Paris:20240323T180000
DTSTAMP:20260426T011537
CREATED:20231210T213920Z
LAST-MODIFIED:20240309T230154Z
UID:714-1711188000-1711216800@dav-aischtal.de
SUMMARY:Kletterschuh-/Materialtest-Event
DESCRIPTION:Unser Partner\, Mountain-Sports bringt am Samstag\, den 23.03.2024 von 10-18 Uhr allenamenhaften Klettermarken (Petzl\, Edelrid\, La Sportiva\, Black Diamond usw.) in unserKletterzentrum nach Bad Windsheim. Ihr habt die einmalige Gelegenheit\, Euch durch daskomplette Sortiment der Hersteller zu testen und Euch alle Tipps und Tricks von den Spezialistendirekt vor Ort zeigen zu lassen. Zusätzlich wird ein regionales Autohaus zwei Camper aus ihremMietfuhrpark ausstellen. Ihr zahlt nur den Kletterhalleneintritt ohne Zusatzkosten! \n● Kletterseile● Klettergurte● Sicherungsgeräte● Sicherungsbrillen● Karabiner● Kletter-/Boulderschuhe● Exen● Portaledge● Clipstick \nAlle Produkte\, die Ihr am Samstag getestet habt\, könnt Ihr exklusiv beim Mountain-Sportszu einem Aktionspreis kaufen oder bestellen! Für alle Besucher haben wir eine Portaledgein 15 Meter Höhe aufgebaut. Jeder\, der diese erklettert\, kann an unserem Foto-Gewinnspielteilnehmen und großartige Preise gewinnen. \n  \nHallenplan:
URL:https://dav-aischtal.de/termin/kletterschuh-materialtest-event/
LOCATION:Kletterzentrum\, Sporthallenweg 12\, Bad Windsheim\, 91438\, Deutschland
CATEGORIES:Materialtest
ATTACH;FMTTYPE=image/jpeg:https://dav-aischtal.de/wp-content/uploads/2023/12/materialtest.jpg
ORGANIZER;CN="Mountain Sports Ansbach":MAILTO:info@mountain-sports.de
END:VEVENT
END:VCALENDAR