BEGIN:VCALENDAR
VERSION:2.0
PRODID:-//DAV Aischtal - ECPv6.15.17.1//NONSGML v1.0//EN
CALSCALE:GREGORIAN
METHOD:PUBLISH
X-WR-CALNAME:DAV Aischtal
X-ORIGINAL-URL:https://dav-aischtal.de
X-WR-CALDESC:Veranstaltungen für DAV Aischtal
REFRESH-INTERVAL;VALUE=DURATION:PT1H
X-Robots-Tag:noindex
X-PUBLISHED-TTL:PT1H
BEGIN:VTIMEZONE
TZID:Europe/Paris
BEGIN:DAYLIGHT
TZOFFSETFROM:+0100
TZOFFSETTO:+0200
TZNAME:CEST
DTSTART:20230326T010000
END:DAYLIGHT
BEGIN:STANDARD
TZOFFSETFROM:+0200
TZOFFSETTO:+0100
TZNAME:CET
DTSTART:20231029T010000
END:STANDARD
BEGIN:DAYLIGHT
TZOFFSETFROM:+0100
TZOFFSETTO:+0200
TZNAME:CEST
DTSTART:20240331T010000
END:DAYLIGHT
BEGIN:STANDARD
TZOFFSETFROM:+0200
TZOFFSETTO:+0100
TZNAME:CET
DTSTART:20241027T010000
END:STANDARD
BEGIN:DAYLIGHT
TZOFFSETFROM:+0100
TZOFFSETTO:+0200
TZNAME:CEST
DTSTART:20250330T010000
END:DAYLIGHT
BEGIN:STANDARD
TZOFFSETFROM:+0200
TZOFFSETTO:+0100
TZNAME:CET
DTSTART:20251026T010000
END:STANDARD
END:VTIMEZONE
BEGIN:VEVENT
DTSTART;TZID=Europe/Paris:20240601T080000
DTEND;TZID=Europe/Paris:20240601T180000
DTSTAMP:20260425T190927
CREATED:20231227T134326Z
LAST-MODIFIED:20240530T111829Z
UID:930-1717228800-1717264800@dav-aischtal.de
SUMMARY:1. Qualifikationswettkampf zur bay. Meisterschaft Lead
DESCRIPTION:Am Samstag findet die Qualifizierung zur Bayerischen Meisterschaft Lead für die Jugend B (Jhg. 2009-2011) und Wettkampf/Trainingssimulation Lead Jugend A (Jhg. 2007/2008) im Kletterzentrum statt. \nVorläufiger Zeitplan (Änderungen möglich): \n9:00 Uhr – Registrierung Jugend B Nomi Lehrgang Lead10:00 – 15:00 Uhr – Nomi Lehrgang Lead15:30 Uhr – Speed Training Jugend A/B (Ein Trainingslauf pro Athlet*in) \nFür den öffentlichen Kletterbetrieb bleibt das Kletterzentrum geschlossen. Zuschauer sind jedoch willkommen\, der Eintritt ist frei. \n  \nWebiste des Veranstalters: Bergsportfachverband Bayern des DAV e.V.
URL:https://dav-aischtal.de/termin/1-qualifikationswettkampf-zur-bay-meisterschaft-lead/
LOCATION:Kletterzentrum\, Sporthallenweg 12\, Bad Windsheim\, 91438\, Deutschland
CATEGORIES:Wettkampf
ORGANIZER;CN="DAV Sektion Aischtal":MAILTO:info@dav-aischtal.de
END:VEVENT
BEGIN:VEVENT
DTSTART;TZID=Europe/Paris:20240602T080000
DTEND;TZID=Europe/Paris:20240602T173000
DTSTAMP:20260425T190927
CREATED:20231227T134604Z
LAST-MODIFIED:20240530T112030Z
UID:933-1717315200-1717349400@dav-aischtal.de
SUMMARY:2. Bayerischer Speed Cup / Kids Cup Speed
DESCRIPTION:Am Sonntag findet der Kids Cup Speed im Kletterzentrum statt. \nVorläufiger Zeitplan: \n8:00 – 8:30 Uhr – Registrierung Jugend A/B9:00 Uhr – Speed Qualifikation + Finale Jugend A/B mit Siegerehrung \n13:00 – 13:30 – Registrierung Jugend C/D14:00 Uhr – Speed Training (Ein Lauf pro Athlet*in)15:15 Uhr – Speed Qualifikation und Finale Jugend C/D mit Siegerehrung \nFür Zuschauer ist der Eintritt ins Kletterzentrum frei. \n  \n Webiste des Veranstalters: Bergsportfachverband Bayern des DAV e.V.
URL:https://dav-aischtal.de/termin/2-bayerischer-speed-cup-kids-cup-speed/
LOCATION:Kletterzentrum\, Sporthallenweg 12\, Bad Windsheim\, 91438\, Deutschland
CATEGORIES:Wettkampf
ORGANIZER;CN="DAV Sektion Aischtal":MAILTO:info@dav-aischtal.de
END:VEVENT
BEGIN:VEVENT
DTSTART;TZID=Europe/Paris:20240609T180000
DTEND;TZID=Europe/Paris:20240630T210000
DTSTAMP:20260425T190927
CREATED:20240111T175332Z
LAST-MODIFIED:20240610T110617Z
UID:1052-1717956000-1719781200@dav-aischtal.de
SUMMARY:Spaß-Kombicup 2.0
DESCRIPTION:Nach dem Qualifikationswettkampf zu den Bayerischen Meisterschaften Lead (Jugend B) wird unser Außenbereich neu beschraubt. Das gibt uns die Möglichkeit\, eine zweite Runde des Spaß-Kombicups einzuleiten.\nEs erwarten euch 25 neue Boulder und 20 Routen im Außenbereich in verschiedenen Schwierigkeitsgraden\, die ihr über einen Zeitraum von 3 Wochen fleißig testen und absolvieren könnt. Die Dokumentation eurer Leistungen erfolgt wie gehabt selbstständig per Laufzettel. Die Teilnahme ist kostenlos.\nEs gibt außerdem viele Preise zu gewinnen. Die Teilnahme lohnt sich also!
URL:https://dav-aischtal.de/termin/spass-kombicup-2-0/
LOCATION:Kletterzentrum\, Sporthallenweg 12\, Bad Windsheim\, 91438\, Deutschland
CATEGORIES:Klettern
ATTACH;FMTTYPE=image/jpeg:https://dav-aischtal.de/wp-content/uploads/2024/01/Unbenannt-1.jpg
ORGANIZER;CN="DAV Sektion Aischtal":MAILTO:info@dav-aischtal.de
END:VEVENT
BEGIN:VEVENT
DTSTART;TZID=Europe/Paris:20240615T080000
DTEND;TZID=Europe/Paris:20240617T170000
DTSTAMP:20260425T190927
CREATED:20240123T194457Z
LAST-MODIFIED:20240123T194504Z
UID:1074-1718438400-1718643600@dav-aischtal.de
SUMMARY:Alpinausbildung Blaueishütte
DESCRIPTION:Verbessern der Klettertechnik am Fels und im Eis\, Fachkundige Führung überGletscher\, leichteres Fels- und Eisgelände\, Klettern maximal im 3. Grad\,Führung von DAV-Ausbildern \nTeilnehmerzahl: max. 5Leitung: Peter HöhnGebühr: pro Person für Fahrt und Unterkunft ca. 190 € \nVoraussetzung: leichtes Klettertraining\, Kletterkönnen im 3. Grad alpin\,gute Kondition für 8 Stunden und gut 1000 Höhenmeter am Tag
URL:https://dav-aischtal.de/termin/alpinausbildung-blaueishuette/
ORGANIZER;CN="Peter H%C3%B6hn":MAILTO:peter.hoehn@dav-aischtal.de
END:VEVENT
END:VCALENDAR