BEGIN:VCALENDAR
VERSION:2.0
PRODID:-//DAV Aischtal - ECPv6.15.17.1//NONSGML v1.0//EN
CALSCALE:GREGORIAN
METHOD:PUBLISH
X-ORIGINAL-URL:https://dav-aischtal.de
X-WR-CALDESC:Veranstaltungen für DAV Aischtal
REFRESH-INTERVAL;VALUE=DURATION:PT1H
X-Robots-Tag:noindex
X-PUBLISHED-TTL:PT1H
BEGIN:VTIMEZONE
TZID:Europe/Paris
BEGIN:DAYLIGHT
TZOFFSETFROM:+0100
TZOFFSETTO:+0200
TZNAME:CEST
DTSTART:20230326T010000
END:DAYLIGHT
BEGIN:STANDARD
TZOFFSETFROM:+0200
TZOFFSETTO:+0100
TZNAME:CET
DTSTART:20231029T010000
END:STANDARD
BEGIN:DAYLIGHT
TZOFFSETFROM:+0100
TZOFFSETTO:+0200
TZNAME:CEST
DTSTART:20240331T010000
END:DAYLIGHT
BEGIN:STANDARD
TZOFFSETFROM:+0200
TZOFFSETTO:+0100
TZNAME:CET
DTSTART:20241027T010000
END:STANDARD
BEGIN:DAYLIGHT
TZOFFSETFROM:+0100
TZOFFSETTO:+0200
TZNAME:CEST
DTSTART:20250330T010000
END:DAYLIGHT
BEGIN:STANDARD
TZOFFSETFROM:+0200
TZOFFSETTO:+0100
TZNAME:CET
DTSTART:20251026T010000
END:STANDARD
END:VTIMEZONE
BEGIN:VEVENT
DTSTART;TZID=Europe/Paris:20240705T080000
DTEND;TZID=Europe/Paris:20240707T170000
DTSTAMP:20260425T174254
CREATED:20240123T195029Z
LAST-MODIFIED:20240126T173425Z
UID:1081-1720166400-1720371600@dav-aischtal.de
SUMMARY:Einsteigerhochtour
DESCRIPTION:Vorbereitungstour für die Hochtour am Olperer. Verbessern der Klettertechnik am Fels und im Eis\, fachkundige Führung über Gletscher\, leichteres Fels- und Eisgelände\, Klettern maximal im 3. Grad\, Führung von DAV-Ausbildern. \nAnmeldung bis 10.5.2022Teilnehmer: min. 2/max. 3 Personen pro TourleiterLeitung: Peter HöhnGebühr: pro Person für Fahrt und Unterkunft ca. 190 €Voraussetzung: regelmäßiges Klettertraining\, Kletterkönnen im 3. Grad alpin\,gute Kondition für 8 Stunden und gut 1000 Höhenmeter am Tag
URL:https://dav-aischtal.de/termin/einsteigerhochtour/
ORGANIZER;CN="Peter H%C3%B6hn":MAILTO:peter.hoehn@dav-aischtal.de
END:VEVENT
END:VCALENDAR