BEGIN:VCALENDAR
VERSION:2.0
PRODID:-//DAV Aischtal - ECPv6.15.17.1//NONSGML v1.0//EN
CALSCALE:GREGORIAN
METHOD:PUBLISH
X-WR-CALNAME:DAV Aischtal
X-ORIGINAL-URL:https://dav-aischtal.de
X-WR-CALDESC:Veranstaltungen für DAV Aischtal
REFRESH-INTERVAL;VALUE=DURATION:PT1H
X-Robots-Tag:noindex
X-PUBLISHED-TTL:PT1H
BEGIN:VTIMEZONE
TZID:Europe/Berlin
BEGIN:DAYLIGHT
TZOFFSETFROM:+0100
TZOFFSETTO:+0200
TZNAME:CEST
DTSTART:20230326T010000
END:DAYLIGHT
BEGIN:STANDARD
TZOFFSETFROM:+0200
TZOFFSETTO:+0100
TZNAME:CET
DTSTART:20231029T010000
END:STANDARD
BEGIN:DAYLIGHT
TZOFFSETFROM:+0100
TZOFFSETTO:+0200
TZNAME:CEST
DTSTART:20240331T010000
END:DAYLIGHT
BEGIN:STANDARD
TZOFFSETFROM:+0200
TZOFFSETTO:+0100
TZNAME:CET
DTSTART:20241027T010000
END:STANDARD
BEGIN:DAYLIGHT
TZOFFSETFROM:+0100
TZOFFSETTO:+0200
TZNAME:CEST
DTSTART:20250330T010000
END:DAYLIGHT
BEGIN:STANDARD
TZOFFSETFROM:+0200
TZOFFSETTO:+0100
TZNAME:CET
DTSTART:20251026T010000
END:STANDARD
END:VTIMEZONE
BEGIN:VEVENT
DTSTART;TZID=Europe/Berlin:20241026T080000
DTEND;TZID=Europe/Berlin:20241026T170000
DTSTAMP:20260425T125330
CREATED:20240924T190941Z
LAST-MODIFIED:20240924T200702Z
UID:2010-1729929600-1729962000@dav-aischtal.de
SUMMARY:Aischtal-Cup 2024
DESCRIPTION:Kombiwettkampf aus Lead und Speed inklusive Vergabe des Titels „Stadtmeister Bad Windsheim 2024“ \nHier geht es zur Wettkampf-Seite.
URL:https://dav-aischtal.de/termin/aischtal-cup-2024-stadtmeister-bad-windsheim/
LOCATION:Kletterzentrum\, Sporthallenweg 12\, Bad Windsheim\, 91438\, Deutschland
CATEGORIES:Wettkampf
ORGANIZER;CN="DAV Sektion Aischtal":MAILTO:info@dav-aischtal.de
END:VEVENT
END:VCALENDAR